BEGIN:VCALENDAR
VERSION:2.0
PRODID:-//Owyhee County Historical Society Museum &amp; Library - ECPv6.15.20//NONSGML v1.0//EN
CALSCALE:GREGORIAN
METHOD:PUBLISH
X-WR-CALNAME:Owyhee County Historical Society Museum &amp; Library
X-ORIGINAL-URL:https://owyheemuseum.org
X-WR-CALDESC:Events for Owyhee County Historical Society Museum &amp; Library
REFRESH-INTERVAL;VALUE=DURATION:PT1H
X-Robots-Tag:noindex
X-PUBLISHED-TTL:PT1H
BEGIN:VTIMEZONE
TZID:America/Boise
BEGIN:DAYLIGHT
TZOFFSETFROM:-0700
TZOFFSETTO:-0600
TZNAME:MDT
DTSTART:20260308T090000
END:DAYLIGHT
BEGIN:STANDARD
TZOFFSETFROM:-0600
TZOFFSETTO:-0700
TZNAME:MST
DTSTART:20261101T080000
END:STANDARD
BEGIN:DAYLIGHT
TZOFFSETFROM:-0700
TZOFFSETTO:-0600
TZNAME:MDT
DTSTART:20270314T090000
END:DAYLIGHT
BEGIN:STANDARD
TZOFFSETFROM:-0600
TZOFFSETTO:-0700
TZNAME:MST
DTSTART:20271107T080000
END:STANDARD
BEGIN:DAYLIGHT
TZOFFSETFROM:-0700
TZOFFSETTO:-0600
TZNAME:MDT
DTSTART:20280312T090000
END:DAYLIGHT
BEGIN:STANDARD
TZOFFSETFROM:-0600
TZOFFSETTO:-0700
TZNAME:MST
DTSTART:20281105T080000
END:STANDARD
END:VTIMEZONE
BEGIN:VEVENT
DTSTART;TZID=America/Boise:20270115T180000
DTEND;TZID=America/Boise:20270115T200000
DTSTAMP:20260421T191754
CREATED:20260324T214459Z
LAST-MODIFIED:20260324T214459Z
UID:2695-1800036000-1800043200@owyheemuseum.org
SUMMARY:
DESCRIPTION:Join us on January 15th at 6pm as we enjoy out bi-monthly membership meeting with historic presenter to follow. More details soon.
URL:https://owyheemuseum.org/event/2695
LOCATION:Owyhee County Historical Society\, 17085 Basey Street\, Murphy\, ID\, 83650\, United States
END:VEVENT
BEGIN:VEVENT
DTSTART;TZID=America/Boise:20270319T180000
DTEND;TZID=America/Boise:20270319T200000
DTSTAMP:20260421T191754
CREATED:20260324T214617Z
LAST-MODIFIED:20260324T214617Z
UID:2697-1805479200-1805486400@owyheemuseum.org
SUMMARY:Membership Meeting
DESCRIPTION:Join us on March 19th at 6pm as we enjoy out bi-monthly membership meeting with historic presenter to follow. More details soon.
URL:https://owyheemuseum.org/event/membership-meeting-3
LOCATION:Owyhee County Historical Society\, 17085 Basey Street\, Murphy\, ID\, 83650\, United States
END:VEVENT
END:VCALENDAR