BEGIN:VCALENDAR
VERSION:2.0
PRODID:-//Owyhee County Historical Society Museum &amp; Library - ECPv6.15.20//NONSGML v1.0//EN
CALSCALE:GREGORIAN
METHOD:PUBLISH
X-WR-CALNAME:Owyhee County Historical Society Museum &amp; Library
X-ORIGINAL-URL:https://owyheemuseum.org
X-WR-CALDESC:Events for Owyhee County Historical Society Museum &amp; Library
REFRESH-INTERVAL;VALUE=DURATION:PT1H
X-Robots-Tag:noindex
X-PUBLISHED-TTL:PT1H
BEGIN:VTIMEZONE
TZID:America/Boise
BEGIN:DAYLIGHT
TZOFFSETFROM:-0700
TZOFFSETTO:-0600
TZNAME:MDT
DTSTART:20250309T090000
END:DAYLIGHT
BEGIN:STANDARD
TZOFFSETFROM:-0600
TZOFFSETTO:-0700
TZNAME:MST
DTSTART:20251102T080000
END:STANDARD
BEGIN:DAYLIGHT
TZOFFSETFROM:-0700
TZOFFSETTO:-0600
TZNAME:MDT
DTSTART:20260308T090000
END:DAYLIGHT
BEGIN:STANDARD
TZOFFSETFROM:-0600
TZOFFSETTO:-0700
TZNAME:MST
DTSTART:20261101T080000
END:STANDARD
BEGIN:DAYLIGHT
TZOFFSETFROM:-0700
TZOFFSETTO:-0600
TZNAME:MDT
DTSTART:20270314T090000
END:DAYLIGHT
BEGIN:STANDARD
TZOFFSETFROM:-0600
TZOFFSETTO:-0700
TZNAME:MST
DTSTART:20271107T080000
END:STANDARD
END:VTIMEZONE
BEGIN:VEVENT
DTSTART;TZID=America/Boise:20260515T180000
DTEND;TZID=America/Boise:20260515T200000
DTSTAMP:20260421T081637
CREATED:20260324T214153Z
LAST-MODIFIED:20260324T214153Z
UID:2690-1778868000-1778875200@owyheemuseum.org
SUMMARY:Membership Meeting
DESCRIPTION:Join us on May 15th at 6pm for our Membership meeting. This month we have Jerry Eichhorst. This presentation will use a combination of maps\, old and recent pictures\, and emigrant diary quotes to share the best of the Oregon and California Trails in Idaho. There are hundreds of miles of emigrant trails in southern Idaho used by people migrating with covered wagons to the Pacific Ocean in the 1840s to 1860s. Several cutoffs and alternative routes traversed Idaho through the era as better wagon roads were sought by the emigrants. The humorous\, informative\, and tragic stories of the emigrants bring these trails to life. \nJerry Eichhorst is an amateur historian with a passion for the Oregon and California Trails. He has been involved with these emigrant trails in Idaho for over 30 years. As a diary researcher with over 2700 accounts of emigrants traveling in Idaho\, he has made numerous discoveries about the trails in Idaho through extensive research and compiling of the accounts. Jerry has been President of the Idaho chapter (www.IdahoOCTA.org) of the Oregon-California Trails Association (OCTA) for over 15 years. \n 
URL:https://owyheemuseum.org/event/membership-meeting
LOCATION:Owyhee County Historical Society\, 17085 Basey Street\, Murphy\, ID\, 83650\, United States
END:VEVENT
END:VCALENDAR